BEGIN:VCALENDAR
VERSION:2.0
PRODID:-//#netzwerk - ECPv6.15.20//NONSGML v1.0//EN
CALSCALE:GREGORIAN
METHOD:PUBLISH
X-WR-CALNAME:#netzwerk
X-ORIGINAL-URL:https://cellecreativ.de
X-WR-CALDESC:Veranstaltungen für #netzwerk
REFRESH-INTERVAL;VALUE=DURATION:PT1H
X-Robots-Tag:noindex
X-PUBLISHED-TTL:PT1H
BEGIN:VTIMEZONE
TZID:Europe/Berlin
BEGIN:DAYLIGHT
TZOFFSETFROM:+0100
TZOFFSETTO:+0200
TZNAME:CEST
DTSTART:20230326T010000
END:DAYLIGHT
BEGIN:STANDARD
TZOFFSETFROM:+0200
TZOFFSETTO:+0100
TZNAME:CET
DTSTART:20231029T010000
END:STANDARD
BEGIN:DAYLIGHT
TZOFFSETFROM:+0100
TZOFFSETTO:+0200
TZNAME:CEST
DTSTART:20240331T010000
END:DAYLIGHT
BEGIN:STANDARD
TZOFFSETFROM:+0200
TZOFFSETTO:+0100
TZNAME:CET
DTSTART:20241027T010000
END:STANDARD
BEGIN:DAYLIGHT
TZOFFSETFROM:+0100
TZOFFSETTO:+0200
TZNAME:CEST
DTSTART:20250330T010000
END:DAYLIGHT
BEGIN:STANDARD
TZOFFSETFROM:+0200
TZOFFSETTO:+0100
TZNAME:CET
DTSTART:20251026T010000
END:STANDARD
BEGIN:DAYLIGHT
TZOFFSETFROM:+0100
TZOFFSETTO:+0200
TZNAME:CEST
DTSTART:20260329T010000
END:DAYLIGHT
BEGIN:STANDARD
TZOFFSETFROM:+0200
TZOFFSETTO:+0100
TZNAME:CET
DTSTART:20261025T010000
END:STANDARD
END:VTIMEZONE
BEGIN:VEVENT
DTSTART;TZID=Europe/Berlin:20250118T100000
DTEND;TZID=Europe/Berlin:20250118T133000
DTSTAMP:20260420T122219
CREATED:20240731T173442Z
LAST-MODIFIED:20240731T173442Z
UID:3523-1737194400-1737207000@cellecreativ.de
SUMMARY:Word und Excel für Schüler*innen
DESCRIPTION:In diesem Kurs bekommt ihr das Einstiegs- und Grundlagenwissen für die Nutzung der Programme Word (Textverarbeitung) und Excel (Tabellenkalkulation) von Microsoft. Durch praktische Übungen erlangt ihr Sicherheit im Umgang mit der Software. Das Erlernte könnt ihr im Schulalltag beispielsweise für Berechnungen\, Berichte\, Referate oder Facharbeiten nutzen.\nIhr solltet Grundkenntnisse im Umgang mit dem PC haben. \n  \nVHS Celle: Word und Excel für Schüler*innen (vhs-celle.de)
URL:https://cellecreativ.de/event/word-und-excel-fuer-schuelerinnen/
LOCATION:VHS Celle\, Trift 20\, Celle\, 29221
CATEGORIES:Akademie,buerger,nachwuchs
ATTACH;FMTTYPE=image/png:https://cellecreativ.de/wp-content/uploads/2023/05/wordexcelkinder.png
END:VEVENT
BEGIN:VEVENT
DTSTART;TZID=Europe/Berlin:20241120T183000
DTEND;TZID=Europe/Berlin:20241120T203000
DTSTAMP:20260420T122219
CREATED:20240731T174851Z
LAST-MODIFIED:20240731T174851Z
UID:3527-1732127400-1732134600@cellecreativ.de
SUMMARY:Strafe muss sein? Warum wir strafen\, wie wir strafen
DESCRIPTION:Gefängnis und Gericht sind ein zentraler Bestandteil Celles.\nInsofern wollen wir uns der Frage annehmen: Warum Strafen wir\, wie strafen wir?\nMuss Strafe (auf diese Art) sein\, und was soll und was bewirkt sie?\nWir werden uns den Umgang mit Fehlverhalten in unterschiedlichen Epochen und unterschiedlichen Zusammenhängen ansehen – insbesondere auch in der Kindererziehung.\nAuch die Art der Bestrafung hat sich im Laufe der Zeit gewandelt. Ist Strafe noch zeitgemäß oder bloße Rache? Und was empfinden wir als bestrafungswürdig? \nNeben einem Vortrag über diese Themen wollen wir im Anschluss auch gemeinsam anhand von konkreten Beispielen diskutieren. \nVHS Celle: Strafe muss sein? Warum wir strafen\, wie wir strafen (vhs-celle.de)
URL:https://cellecreativ.de/event/strafe-muss-sein-warum-wir-strafen-wie-wir-strafen/
LOCATION:VHS Celle\, Trift 20\, Celle\, 29221
CATEGORIES:Akademie,buerger,Offene Veranstaltungen
ATTACH;FMTTYPE=image/jpeg:https://cellecreativ.de/wp-content/uploads/2024/02/museumnext-audience.jpg
END:VEVENT
BEGIN:VEVENT
DTSTART;TZID=Europe/Berlin:20241109T080000
DTEND;TZID=Europe/Berlin:20241109T170000
DTSTAMP:20260420T122219
CREATED:20241016T102350Z
LAST-MODIFIED:20241016T102350Z
UID:3765-1731139200-1731171600@cellecreativ.de
SUMMARY:Weiblicher Perfektionismus & Mental Load - Überwindung der Erschöpfungsfalle
DESCRIPTION:
URL:https://cellecreativ.de/event/weiblicher-perfektionismus-mental-load-ueberwindung-der-erschoepfungsfalle-2/
CATEGORIES:Akademie,buerger,Offene Veranstaltungen
ATTACH;FMTTYPE=image/png:https://cellecreativ.de/wp-content/uploads/2024/10/2024-01-18-Plakat-Mental-Load.png
END:VEVENT
BEGIN:VEVENT
DTSTART;TZID=Europe/Berlin:20241009T180000
DTEND;TZID=Europe/Berlin:20241009T220000
DTSTAMP:20260420T122219
CREATED:20241005T202426Z
LAST-MODIFIED:20241005T202426Z
UID:4062-1728496800-1728511200@cellecreativ.de
SUMMARY:Konzert für die Seele
DESCRIPTION:Das Konzert ist der Auftakt zum Tag der seelischen Gesundheit. Am 10.10.2024 von 13.00 Uhr-18.00 Uhr gibt es einen kleinen Aktionstag am Kröpcke\, veranstaltet von der Region Hannover. Hier sind wir auch dabei. \nEbenfalls gibt es am 16.10.2024 nochmals den Kinofilm  „Ich bin Ich- ich bin mehr als meine Diagnose“ im Kino am Raschplatz zu sehen\, ab 18.00 Uhr. Eintritt ist frei aber eine Anmeldung ist gewünscht. Anschliessend gibt es auch die Möglichkeit ins Gespräch zu kommen.
URL:https://cellecreativ.de/event/konzert-fuer-die-seele-3/
CATEGORIES:buerger,Offene Veranstaltungen
ATTACH;FMTTYPE=image/png:https://cellecreativ.de/wp-content/uploads/2024/10/Screenshot-2024-10-05-222224.png
END:VEVENT
BEGIN:VEVENT
DTSTART;TZID=Europe/Berlin:20241007T131500
DTEND;TZID=Europe/Berlin:20241010T163000
DTSTAMP:20260420T122219
CREATED:20240731T173119Z
LAST-MODIFIED:20240731T173119Z
UID:4066-1728306900-1728577800@cellecreativ.de
SUMMARY:Programmieren mit Python für Mädchen ab 12 Jahren
DESCRIPTION:Entdecke die Welt des Programmierens! In diesem Kurs lernst Du gemeinsam mit anderen die Grundlagen der Programmiersprache Python auf eine interaktive Weise. Python besitzt einfache Strukturen und ist darum sehr gut für Anfängerinnen geeignet: Du wirst selbst erste eigene Programme erstellen. \n  \nVHS Celle: Herbstferien: Programmieren mit Python für Schülerinnen (vhs-celle.de)
URL:https://cellecreativ.de/event/programmieren-mit-python-fuer-maedchen-ab-12-jahren-2-2/
LOCATION:VHS Celle\, Trift 20\, Celle\, 29221
CATEGORIES:Akademie,buerger,nachwuchs
ATTACH;FMTTYPE=image/png:https://cellecreativ.de/wp-content/uploads/2023/02/Screenshot-2023-02-07-235706.png
END:VEVENT
BEGIN:VEVENT
DTSTART;TZID=Europe/Berlin:20240925T173000
DTEND;TZID=Europe/Berlin:20240925T203000
DTSTAMP:20260420T122219
CREATED:20240826T205355Z
LAST-MODIFIED:20240826T205355Z
UID:4060-1727285400-1727296200@cellecreativ.de
SUMMARY:Emotionale Intelligenz im Beruf
DESCRIPTION:
URL:https://cellecreativ.de/event/emotionale-intelligenz-im-beruf-3/
LOCATION:Luhmannshof\, Dorfstraße 8\, Celle\, 29223
CATEGORIES:Akademie,buerger,Offene Veranstaltungen
ATTACH;FMTTYPE=image/png:https://cellecreativ.de/wp-content/uploads/2024/08/Emotionale-Intelligenz.png
END:VEVENT
BEGIN:VEVENT
DTSTART;TZID=Europe/Berlin:20240925T173000
DTEND;TZID=Europe/Berlin:20240925T203000
DTSTAMP:20260420T122219
CREATED:20240826T205355Z
LAST-MODIFIED:20240826T205355Z
UID:3762-1727285400-1727296200@cellecreativ.de
SUMMARY:Emotionale Intelligenz im Beruf
DESCRIPTION:
URL:https://cellecreativ.de/event/emotionale-intelligenz-im-beruf-2/
LOCATION:Luhmannshof\, Dorfstraße 8\, Celle\, 29223
CATEGORIES:Akademie,buerger,Offene Veranstaltungen
ATTACH;FMTTYPE=image/png:https://cellecreativ.de/wp-content/uploads/2024/08/Emotionale-Intelligenz.png
END:VEVENT
BEGIN:VEVENT
DTSTART;TZID=Europe/Berlin:20240925T173000
DTEND;TZID=Europe/Berlin:20240925T203000
DTSTAMP:20260420T122219
CREATED:20240826T205355Z
LAST-MODIFIED:20240826T205355Z
UID:4071-1727285400-1727296200@cellecreativ.de
SUMMARY:Emotionale Intelligenz im Beruf
DESCRIPTION:
URL:https://cellecreativ.de/event/emotionale-intelligenz-im-beruf-2-2/
LOCATION:Luhmannshof\, Dorfstraße 8\, Celle\, 29223
CATEGORIES:Akademie,buerger,Offene Veranstaltungen
ATTACH;FMTTYPE=image/png:https://cellecreativ.de/wp-content/uploads/2024/08/Emotionale-Intelligenz.png
END:VEVENT
BEGIN:VEVENT
DTSTART;TZID=Europe/Berlin:20240925T173000
DTEND;TZID=Europe/Berlin:20240925T203000
DTSTAMP:20260420T122219
CREATED:20240826T205355Z
LAST-MODIFIED:20240826T205355Z
UID:3571-1727285400-1727296200@cellecreativ.de
SUMMARY:Emotionale Intelligenz im Beruf
DESCRIPTION:
URL:https://cellecreativ.de/event/emotionale-intelligenz-im-beruf/
LOCATION:Luhmannshof\, Dorfstraße 8\, Celle\, 29223
CATEGORIES:Akademie,buerger,Offene Veranstaltungen
ATTACH;FMTTYPE=image/png:https://cellecreativ.de/wp-content/uploads/2024/08/Emotionale-Intelligenz.png
END:VEVENT
BEGIN:VEVENT
DTSTART;TZID=Europe/Berlin:20240918T173000
DTEND;TZID=Europe/Berlin:20240918T203000
DTSTAMP:20260420T122219
CREATED:20240826T205506Z
LAST-MODIFIED:20240826T205506Z
UID:4061-1726680600-1726691400@cellecreativ.de
SUMMARY:Mental stark in Führung
DESCRIPTION:
URL:https://cellecreativ.de/event/mental-stark-in-fuehrung-3/
LOCATION:Luhmannshof\, Dorfstraße 8\, Celle\, 29223
CATEGORIES:Akademie,buerger,Offene Veranstaltungen
ATTACH;FMTTYPE=image/png:https://cellecreativ.de/wp-content/uploads/2024/08/Mental-Load-Healthy-Boundaries.png
END:VEVENT
BEGIN:VEVENT
DTSTART;TZID=Europe/Berlin:20240918T173000
DTEND;TZID=Europe/Berlin:20240918T203000
DTSTAMP:20260420T122219
CREATED:20240826T205506Z
LAST-MODIFIED:20240826T205506Z
UID:3763-1726680600-1726691400@cellecreativ.de
SUMMARY:Mental stark in Führung
DESCRIPTION:
URL:https://cellecreativ.de/event/mental-stark-in-fuehrung-2/
LOCATION:Luhmannshof\, Dorfstraße 8\, Celle\, 29223
CATEGORIES:Akademie,buerger,Offene Veranstaltungen
ATTACH;FMTTYPE=image/png:https://cellecreativ.de/wp-content/uploads/2024/08/Mental-Load-Healthy-Boundaries.png
END:VEVENT
BEGIN:VEVENT
DTSTART;TZID=Europe/Berlin:20240918T173000
DTEND;TZID=Europe/Berlin:20240918T203000
DTSTAMP:20260420T122219
CREATED:20240826T205506Z
LAST-MODIFIED:20240826T205506Z
UID:4072-1726680600-1726691400@cellecreativ.de
SUMMARY:Mental stark in Führung
DESCRIPTION:
URL:https://cellecreativ.de/event/mental-stark-in-fuehrung-2-2/
LOCATION:Luhmannshof\, Dorfstraße 8\, Celle\, 29223
CATEGORIES:Akademie,buerger,Offene Veranstaltungen
ATTACH;FMTTYPE=image/png:https://cellecreativ.de/wp-content/uploads/2024/08/Mental-Load-Healthy-Boundaries.png
END:VEVENT
BEGIN:VEVENT
DTSTART;TZID=Europe/Berlin:20240918T173000
DTEND;TZID=Europe/Berlin:20240918T203000
DTSTAMP:20260420T122219
CREATED:20240826T205506Z
LAST-MODIFIED:20240826T205506Z
UID:3573-1726680600-1726691400@cellecreativ.de
SUMMARY:Mental stark in Führung
DESCRIPTION:
URL:https://cellecreativ.de/event/mental-stark-in-fuehrung/
LOCATION:Luhmannshof\, Dorfstraße 8\, Celle\, 29223
CATEGORIES:Akademie,buerger,Offene Veranstaltungen
ATTACH;FMTTYPE=image/png:https://cellecreativ.de/wp-content/uploads/2024/08/Mental-Load-Healthy-Boundaries.png
END:VEVENT
BEGIN:VEVENT
DTSTART;TZID=Europe/Berlin:20240913T140000
DTEND;TZID=Europe/Berlin:20240913T200000
DTSTAMP:20260420T122219
CREATED:20240708T213654Z
LAST-MODIFIED:20240708T213654Z
UID:4065-1726236000-1726257600@cellecreativ.de
SUMMARY:Gesundheitstag 2024
DESCRIPTION:
URL:https://cellecreativ.de/event/gesundheitstag-2024-2-2/
LOCATION:Luhmannshof\, Dorfstraße 8\, Celle\, 29223
CATEGORIES:buerger,Offene Veranstaltungen
ATTACH;FMTTYPE=image/jpeg:https://cellecreativ.de/wp-content/uploads/2023/10/Screenshot-2023-05-30-011324.jpg
ORGANIZER;CN="CelleCreativ e.V.":MAILTO:info@cellecreativ.de
END:VEVENT
BEGIN:VEVENT
DTSTART;TZID=Europe/Berlin:20240913T140000
DTEND;TZID=Europe/Berlin:20240913T200000
DTSTAMP:20260420T122219
CREATED:20240708T213654Z
LAST-MODIFIED:20240708T213654Z
UID:3756-1726236000-1726257600@cellecreativ.de
SUMMARY:Gesundheitstag 2024
DESCRIPTION:
URL:https://cellecreativ.de/event/gesundheitstag-2024-2/
LOCATION:Luhmannshof\, Dorfstraße 8\, Celle\, 29223
CATEGORIES:buerger,Offene Veranstaltungen
ATTACH;FMTTYPE=image/jpeg:https://cellecreativ.de/wp-content/uploads/2023/10/Screenshot-2023-05-30-011324.jpg
ORGANIZER;CN="CelleCreativ e.V.":MAILTO:info@cellecreativ.de
END:VEVENT
BEGIN:VEVENT
DTSTART;TZID=Europe/Berlin:20240913T140000
DTEND;TZID=Europe/Berlin:20240913T200000
DTSTAMP:20260420T122219
CREATED:20240708T213654Z
LAST-MODIFIED:20240708T213654Z
UID:3510-1726236000-1726257600@cellecreativ.de
SUMMARY:Gesundheitstag 2024
DESCRIPTION:
URL:https://cellecreativ.de/event/gesundheitstag-2024/
LOCATION:Luhmannshof\, Dorfstraße 8\, Celle\, 29223
CATEGORIES:buerger,Offene Veranstaltungen
ATTACH;FMTTYPE=image/jpeg:https://cellecreativ.de/wp-content/uploads/2023/10/Screenshot-2023-05-30-011324.jpg
ORGANIZER;CN="CelleCreativ e.V.":MAILTO:info@cellecreativ.de
END:VEVENT
BEGIN:VEVENT
DTSTART;TZID=Europe/Berlin:20240913T140000
DTEND;TZID=Europe/Berlin:20240913T200000
DTSTAMP:20260420T122219
CREATED:20240708T213654Z
LAST-MODIFIED:20240708T213654Z
UID:4054-1726236000-1726257600@cellecreativ.de
SUMMARY:Gesundheitstag 2024
DESCRIPTION:
URL:https://cellecreativ.de/event/gesundheitstag-2024-3/
LOCATION:Luhmannshof\, Dorfstraße 8\, Celle\, 29223
CATEGORIES:buerger,Offene Veranstaltungen
ATTACH;FMTTYPE=image/jpeg:https://cellecreativ.de/wp-content/uploads/2023/10/Screenshot-2023-05-30-011324.jpg
ORGANIZER;CN="CelleCreativ e.V.":MAILTO:info@cellecreativ.de
END:VEVENT
BEGIN:VEVENT
DTSTART;TZID=Europe/Berlin:20240822T080000
DTEND;TZID=Europe/Berlin:20240822T170000
DTSTAMP:20260420T122219
CREATED:20240822T143523Z
LAST-MODIFIED:20240822T143523Z
UID:3761-1724313600-1724346000@cellecreativ.de
SUMMARY:GOLETIX - Gesundheitsvortrag
DESCRIPTION:
URL:https://cellecreativ.de/event/goletix-gesundheitsvortrag-2/
CATEGORIES:buerger,Offene Veranstaltungen
ATTACH;FMTTYPE=image/jpeg:https://cellecreativ.de/wp-content/uploads/2024/08/510cd7f1-0b9d-4dcf-a6d5-540a487391bf.jpg
END:VEVENT
BEGIN:VEVENT
DTSTART;TZID=Europe/Berlin:20240822T080000
DTEND;TZID=Europe/Berlin:20240822T170000
DTSTAMP:20260420T122219
CREATED:20240822T143523Z
LAST-MODIFIED:20240822T143523Z
UID:4070-1724313600-1724346000@cellecreativ.de
SUMMARY:GOLETIX - Gesundheitsvortrag
DESCRIPTION:
URL:https://cellecreativ.de/event/goletix-gesundheitsvortrag-2-2/
CATEGORIES:buerger,Offene Veranstaltungen
ATTACH;FMTTYPE=image/jpeg:https://cellecreativ.de/wp-content/uploads/2024/08/510cd7f1-0b9d-4dcf-a6d5-540a487391bf.jpg
END:VEVENT
BEGIN:VEVENT
DTSTART;TZID=Europe/Berlin:20240822T080000
DTEND;TZID=Europe/Berlin:20240822T170000
DTSTAMP:20260420T122219
CREATED:20240822T143523Z
LAST-MODIFIED:20240822T143523Z
UID:3564-1724313600-1724346000@cellecreativ.de
SUMMARY:GOLETIX - Gesundheitsvortrag
DESCRIPTION:
URL:https://cellecreativ.de/event/goletix-gesundheitsvortrag/
CATEGORIES:buerger,Offene Veranstaltungen
ATTACH;FMTTYPE=image/jpeg:https://cellecreativ.de/wp-content/uploads/2024/08/510cd7f1-0b9d-4dcf-a6d5-540a487391bf.jpg
END:VEVENT
BEGIN:VEVENT
DTSTART;TZID=Europe/Berlin:20240822T080000
DTEND;TZID=Europe/Berlin:20240822T170000
DTSTAMP:20260420T122219
CREATED:20240822T143523Z
LAST-MODIFIED:20240822T143523Z
UID:4059-1724313600-1724346000@cellecreativ.de
SUMMARY:GOLETIX - Gesundheitsvortrag
DESCRIPTION:
URL:https://cellecreativ.de/event/goletix-gesundheitsvortrag-3/
CATEGORIES:buerger,Offene Veranstaltungen
ATTACH;FMTTYPE=image/jpeg:https://cellecreativ.de/wp-content/uploads/2024/08/510cd7f1-0b9d-4dcf-a6d5-540a487391bf.jpg
END:VEVENT
BEGIN:VEVENT
DTSTART;TZID=Europe/Berlin:20240815T190000
DTEND;TZID=Europe/Berlin:20240815T213000
DTSTAMP:20260420T122219
CREATED:20240708T213503Z
LAST-MODIFIED:20240708T213503Z
UID:3755-1723748400-1723757400@cellecreativ.de
SUMMARY:Unternehmer*innen-Speed-Dating
DESCRIPTION:„Selbständige und Unternehmer*innen – Stammtisch“ mal anders:Wir laden euch herzlich zu unserem Speed-Dating-Event ein. Gemeinsam mit @Katharina Deze wollen wir euch am 15.8. im Atelier Glückskind begrüßen\, und einen tollen Abend mit euch verbringen. Im bekannten Speed-Dating-Format könnt ihr viele neue\, spannende Kontakte knüpfen\, neue Kooperationspartner oder Kunden gewinnen\, und ganz viel netzwerken.Wir freuen uns auf euch 
URL:https://cellecreativ.de/event/unternehmerinnen-speed-dating-2/
LOCATION:Atelier Glückskind\, Südwall 5\, Celle\, 29221
CATEGORIES:Offene Veranstaltungen,Vereinsaktivitäten
ATTACH;FMTTYPE=image/jpeg:https://cellecreativ.de/wp-content/uploads/2024/07/Unbenannt.jpg
ORGANIZER;CN="CelleCreativ e.V.":MAILTO:info@cellecreativ.de
END:VEVENT
BEGIN:VEVENT
DTSTART;TZID=Europe/Berlin:20240815T190000
DTEND;TZID=Europe/Berlin:20240815T213000
DTSTAMP:20260420T122219
CREATED:20240708T213503Z
LAST-MODIFIED:20240708T213503Z
UID:3507-1723748400-1723757400@cellecreativ.de
SUMMARY:Unternehmer*innen-Speed-Dating
DESCRIPTION:„Selbständige und Unternehmer*innen – Stammtisch“ mal anders:Wir laden euch herzlich zu unserem Speed-Dating-Event ein. Gemeinsam mit @Katharina Deze wollen wir euch am 15.8. im Atelier Glückskind begrüßen\, und einen tollen Abend mit euch verbringen. Im bekannten Speed-Dating-Format könnt ihr viele neue\, spannende Kontakte knüpfen\, neue Kooperationspartner oder Kunden gewinnen\, und ganz viel netzwerken.Wir freuen uns auf euch 
URL:https://cellecreativ.de/event/unternehmerinnen-speed-dating/
LOCATION:Atelier Glückskind\, Südwall 5\, Celle\, 29221
CATEGORIES:Offene Veranstaltungen,Vereinsaktivitäten
ATTACH;FMTTYPE=image/jpeg:https://cellecreativ.de/wp-content/uploads/2024/07/Unbenannt.jpg
ORGANIZER;CN="CelleCreativ e.V.":MAILTO:info@cellecreativ.de
END:VEVENT
BEGIN:VEVENT
DTSTART;TZID=Europe/Berlin:20240815T190000
DTEND;TZID=Europe/Berlin:20240815T213000
DTSTAMP:20260420T122219
CREATED:20240708T213503Z
LAST-MODIFIED:20240708T213503Z
UID:4053-1723748400-1723757400@cellecreativ.de
SUMMARY:Unternehmer*innen-Speed-Dating
DESCRIPTION:„Selbständige und Unternehmer*innen – Stammtisch“ mal anders:Wir laden euch herzlich zu unserem Speed-Dating-Event ein. Gemeinsam mit @Katharina Deze wollen wir euch am 15.8. im Atelier Glückskind begrüßen\, und einen tollen Abend mit euch verbringen. Im bekannten Speed-Dating-Format könnt ihr viele neue\, spannende Kontakte knüpfen\, neue Kooperationspartner oder Kunden gewinnen\, und ganz viel netzwerken.Wir freuen uns auf euch 
URL:https://cellecreativ.de/event/unternehmerinnen-speed-dating-4/
LOCATION:Atelier Glückskind\, Südwall 5\, Celle\, 29221
CATEGORIES:Offene Veranstaltungen,Vereinsaktivitäten
ATTACH;FMTTYPE=image/jpeg:https://cellecreativ.de/wp-content/uploads/2024/07/Unbenannt.jpg
ORGANIZER;CN="CelleCreativ e.V.":MAILTO:info@cellecreativ.de
END:VEVENT
BEGIN:VEVENT
DTSTART;TZID=Europe/Berlin:20240815T190000
DTEND;TZID=Europe/Berlin:20240815T213000
DTSTAMP:20260420T122219
CREATED:20240708T213503Z
LAST-MODIFIED:20240708T213503Z
UID:4064-1723748400-1723757400@cellecreativ.de
SUMMARY:Unternehmer*innen-Speed-Dating
DESCRIPTION:„Selbständige und Unternehmer*innen – Stammtisch“ mal anders:Wir laden euch herzlich zu unserem Speed-Dating-Event ein. Gemeinsam mit @Katharina Deze wollen wir euch am 15.8. im Atelier Glückskind begrüßen\, und einen tollen Abend mit euch verbringen. Im bekannten Speed-Dating-Format könnt ihr viele neue\, spannende Kontakte knüpfen\, neue Kooperationspartner oder Kunden gewinnen\, und ganz viel netzwerken.Wir freuen uns auf euch 
URL:https://cellecreativ.de/event/unternehmerinnen-speed-dating-2-3/
LOCATION:Atelier Glückskind\, Südwall 5\, Celle\, 29221
CATEGORIES:Offene Veranstaltungen,Vereinsaktivitäten
ATTACH;FMTTYPE=image/jpeg:https://cellecreativ.de/wp-content/uploads/2024/07/Unbenannt.jpg
ORGANIZER;CN="CelleCreativ e.V.":MAILTO:info@cellecreativ.de
END:VEVENT
BEGIN:VEVENT
DTSTART;TZID=Europe/Berlin:20240626T183000
DTEND;TZID=Europe/Berlin:20240626T210000
DTSTAMP:20260420T122219
CREATED:20240619T162235Z
LAST-MODIFIED:20240619T162235Z
UID:3754-1719426600-1719435600@cellecreativ.de
SUMMARY:Vereinstreffen mit Gast
DESCRIPTION:
URL:https://cellecreativ.de/event/vereinstreffen-mit-gast-2-2/
LOCATION:#netzwerk\, Südwall 25\, Celle\, 29221
CATEGORIES:Offene Veranstaltungen,Vereinsaktivitäten
ATTACH;FMTTYPE=image/png:https://cellecreativ.de/wp-content/uploads/2024/06/Screenshot-2024-06-10-195853.png
ORGANIZER;CN="CelleCreativ e.V.":MAILTO:info@cellecreativ.de
END:VEVENT
BEGIN:VEVENT
DTSTART;TZID=Europe/Berlin:20240626T183000
DTEND;TZID=Europe/Berlin:20240626T210000
DTSTAMP:20260420T122219
CREATED:20240619T162235Z
LAST-MODIFIED:20240619T162235Z
UID:3499-1719426600-1719435600@cellecreativ.de
SUMMARY:Vereinstreffen mit Gast
DESCRIPTION:
URL:https://cellecreativ.de/event/vereinstreffen-mit-gast-2/
LOCATION:#netzwerk\, Südwall 25\, Celle\, 29221
CATEGORIES:Offene Veranstaltungen,Vereinsaktivitäten
ATTACH;FMTTYPE=image/png:https://cellecreativ.de/wp-content/uploads/2024/06/Screenshot-2024-06-10-195853.png
ORGANIZER;CN="CelleCreativ e.V.":MAILTO:info@cellecreativ.de
END:VEVENT
BEGIN:VEVENT
DTSTART;TZID=Europe/Berlin:20240626T183000
DTEND;TZID=Europe/Berlin:20240626T210000
DTSTAMP:20260420T122219
CREATED:20240619T162235Z
LAST-MODIFIED:20240619T162235Z
UID:4042-1719426600-1719435600@cellecreativ.de
SUMMARY:Vereinstreffen mit Gast
DESCRIPTION:
URL:https://cellecreativ.de/event/vereinstreffen-mit-gast-2-3/
LOCATION:#netzwerk\, Südwall 25\, Celle\, 29221
CATEGORIES:Offene Veranstaltungen,Vereinsaktivitäten
ATTACH;FMTTYPE=image/png:https://cellecreativ.de/wp-content/uploads/2024/06/Screenshot-2024-06-10-195853.png
ORGANIZER;CN="CelleCreativ e.V.":MAILTO:info@cellecreativ.de
END:VEVENT
BEGIN:VEVENT
DTSTART;TZID=Europe/Berlin:20240626T183000
DTEND;TZID=Europe/Berlin:20240626T210000
DTSTAMP:20260420T122219
CREATED:20240619T162235Z
LAST-MODIFIED:20240619T162235Z
UID:4063-1719426600-1719435600@cellecreativ.de
SUMMARY:Vereinstreffen mit Gast
DESCRIPTION:
URL:https://cellecreativ.de/event/vereinstreffen-mit-gast-2-2-2/
LOCATION:#netzwerk\, Südwall 25\, Celle\, 29221
CATEGORIES:Offene Veranstaltungen,Vereinsaktivitäten
ATTACH;FMTTYPE=image/png:https://cellecreativ.de/wp-content/uploads/2024/06/Screenshot-2024-06-10-195853.png
ORGANIZER;CN="CelleCreativ e.V.":MAILTO:info@cellecreativ.de
END:VEVENT
BEGIN:VEVENT
DTSTART;TZID=Europe/Berlin:20240619T183000
DTEND;TZID=Europe/Berlin:20240619T200000
DTSTAMP:20260420T122219
CREATED:20240610T180032Z
LAST-MODIFIED:20240610T180032Z
UID:3495-1718821800-1718827200@cellecreativ.de
SUMMARY:Vereinstreffen mit Gast
DESCRIPTION:
URL:https://cellecreativ.de/event/vereinstreffen-mit-gast/
CATEGORIES:Offene Veranstaltungen,Vereinsaktivitäten
ATTACH;FMTTYPE=image/png:https://cellecreativ.de/wp-content/uploads/2024/06/Screenshot-2024-06-10-195853.png
ORGANIZER;CN="CelleCreativ e.V.":MAILTO:info@cellecreativ.de
END:VEVENT
END:VCALENDAR